BEGIN:VCALENDAR
VERSION:2.0
PRODID:-//Camp Beagle - ECPv6.15.20//NONSGML v1.0//EN
CALSCALE:GREGORIAN
METHOD:PUBLISH
X-ORIGINAL-URL:https://thecampbeagle.com
X-WR-CALDESC:Events for Camp Beagle
REFRESH-INTERVAL;VALUE=DURATION:PT1H
X-Robots-Tag:noindex
X-PUBLISHED-TTL:PT1H
BEGIN:VTIMEZONE
TZID:Europe/London
BEGIN:DAYLIGHT
TZOFFSETFROM:+0000
TZOFFSETTO:+0100
TZNAME:BST
DTSTART:20250330T010000
END:DAYLIGHT
BEGIN:STANDARD
TZOFFSETFROM:+0100
TZOFFSETTO:+0000
TZNAME:GMT
DTSTART:20251026T010000
END:STANDARD
BEGIN:DAYLIGHT
TZOFFSETFROM:+0000
TZOFFSETTO:+0100
TZNAME:BST
DTSTART:20260329T010000
END:DAYLIGHT
BEGIN:STANDARD
TZOFFSETFROM:+0100
TZOFFSETTO:+0000
TZNAME:GMT
DTSTART:20261025T010000
END:STANDARD
BEGIN:DAYLIGHT
TZOFFSETFROM:+0000
TZOFFSETTO:+0100
TZNAME:BST
DTSTART:20270328T010000
END:DAYLIGHT
BEGIN:STANDARD
TZOFFSETFROM:+0100
TZOFFSETTO:+0000
TZNAME:GMT
DTSTART:20271031T010000
END:STANDARD
END:VTIMEZONE
BEGIN:VEVENT
DTSTART;TZID=Europe/London:20260427T120000
DTEND;TZID=Europe/London:20260427T190000
DTSTAMP:20260424T012516
CREATED:20260420T104035Z
LAST-MODIFIED:20260420T104035Z
UID:29626-1777291200-1777316400@thecampbeagle.com
SUMMARY:Parliamentary Debate
DESCRIPTION:Join us outside Parliament to show your support for the MP debate on End Animal Testing.
URL:https://thecampbeagle.com/event/parliamentary-debate/
LOCATION:Parliament square\, Parliament Square\, London\, United Kingdom
CATEGORIES:Events
ATTACH;FMTTYPE=image/jpeg:https://thecampbeagle.com/wp-content/uploads/2026/04/WhatsApp-Image-2026-04-20-at-11.28.05.jpeg
END:VEVENT
END:VCALENDAR